BEGIN:VCALENDAR
VERSION:2.0
BEGIN:VEVENT
DTSTART;TZID=Europe/Stockholm:20260510T180000
DTEND;TZID=Europe/Stockholm:20260510T190000
DTSTAMP:20260420T202019
DESCRIPTION:Vi sjunger nya och kända sånger tillsammans med Bengt Haster och läser bibeltexter och någon dikt.
SEQUENCE:0
SUMMARY:Sånggudstjänst i Klippan
UID:8249@lawebb.se
END:VEVENT
END:VCALENDAR