BEGIN:VCALENDAR
VERSION:2.0
BEGIN:VEVENT
DTSTART;TZID=Europe/Stockholm:20260507T183000
DTEND;TZID=Europe/Stockholm:20260507T193000
DTSTAMP:20260420T201537
DESCRIPTION:Börjar med fika och sedan läser vi olika bibeltexter och samtalar om det tillsammans med Jenny Persson.
SEQUENCE:0
SUMMARY:Bibelsamtal i Klippan
UID:2832@lawebb.se
END:VEVENT
END:VCALENDAR