BEGIN:VCALENDAR
VERSION:2.0
BEGIN:VEVENT
DTSTART;TZID=Europe/Stockholm:20260504T000000
DTEND;TZID=Europe/Stockholm:20260504T240000
DTSTAMP:20260420T202203
DESCRIPTION:GOAgrupperna städar inne och ute enl. fördelningslista
SEQUENCE:0
SUMMARY:Storstädning på Ölmeklint under maj
UID:5372@lawebb.se
END:VEVENT
END:VCALENDAR