BEGIN:VCALENDAR
VERSION:2.0
BEGIN:VEVENT
DTSTART;TZID=Europe/Stockholm:20260503T110000
DTEND;TZID=Europe/Stockholm:20260503T120000
DTSTAMP:20260420T202018
DESCRIPTION:Joakim Götborg m.fl.
SEQUENCE:0
SUMMARY:Gudstjänst med nattvard i Eqk Väse
UID:8365@lawebb.se
END:VEVENT
END:VCALENDAR