BEGIN:VCALENDAR
VERSION:2.0
BEGIN:VEVENT
DTSTART;TZID=Europe/Stockholm:20260502T100000
DTEND;TZID=Europe/Stockholm:20260502T110000
DTSTAMP:20260420T201942
DESCRIPTION:Kl 10 - ca 14. Ta med egen kaffekorg. Det finns bröd och korv att grilla.
SEQUENCE:0
SUMMARY:Storstädning i och vid Ölmeklint
UID:8684@lawebb.se
END:VEVENT
END:VCALENDAR