BEGIN:VCALENDAR
VERSION:2.0
BEGIN:VEVENT
DTSTART;TZID=Europe/Stockholm:20260430T193000
DTEND;TZID=Europe/Stockholm:20260430T203000
DTSTAMP:20260420T183846
DESCRIPTION:Bygdens gemensamma Valborgsmässofirande startar i Klippan med servering, lotteri och musik samt avslutas vid brasan på Idrottsplatsens parkering. Kl 20.45 fackeltåg från Klippan. Vid IP säljs hamburgare & lotter och vårsånger hörs. Vårtal hålls av Arvid Lundtoft Det blir också fyrverkeri..
SEQUENCE:0
SUMMARY:Valborgsmässoafton i Klippan och på IP
UID:8494@lawebb.se
END:VEVENT
END:VCALENDAR