BEGIN:VCALENDAR
VERSION:2.0
BEGIN:VEVENT
DTSTART;TZID=Europe/Stockholm:20260428T140000
DTEND;TZID=Europe/Stockholm:20260428T150000
DTSTAMP:20260420T183806
DESCRIPTION:Ingemar Mattsson sjunger för de boende
SEQUENCE:0
SUMMARY:Sångstund på Ölmegården
UID:4598@lawebb.se
END:VEVENT
END:VCALENDAR