BEGIN:VCALENDAR
VERSION:2.0
BEGIN:VEVENT
DTSTART;TZID=Europe/Stockholm:20260423T150000
DTEND;TZID=Europe/Stockholm:20260423T160000
DTSTAMP:20260420T184100
DESCRIPTION:
SEQUENCE:0
SUMMARY:Stickcafé hos Eqk Väse
UID:4795@lawebb.se
END:VEVENT
END:VCALENDAR