BEGIN:VCALENDAR
VERSION:2.0
BEGIN:VEVENT
DTSTART;TZID=Europe/Stockholm:20260419T110000
DTEND;TZID=Europe/Stockholm:20260419T120000
DTSTAMP:20260420T184120
DESCRIPTION:Joakim Götborg m.fl.
SEQUENCE:0
SUMMARY:Gudstjänst hos Eqk Väse
UID:9324@lawebb.se
END:VEVENT
END:VCALENDAR