BEGIN:VCALENDAR
VERSION:2.0
BEGIN:VEVENT
DTSTART;TZID=Europe/Stockholm:20260413T180000
DTEND;TZID=Europe/Stockholm:20260413T190000
DTSTAMP:20260420T184152
DESCRIPTION:
SEQUENCE:0
SUMMARY:Styrelsemöte i Klippan
UID:2265@lawebb.se
END:VEVENT
END:VCALENDAR