BEGIN:VCALENDAR
VERSION:2.0
BEGIN:VEVENT
DTSTART;TZID=Europe/Stockholm:20260409T183000
DTEND;TZID=Europe/Stockholm:20260409T193000
DTSTAMP:20260420T183847
DESCRIPTION:Börjar med fika och sedan läser vi olika bibeltexter och samtalar om det tillsammans med Jenny Persson.
SEQUENCE:0
SUMMARY:Bibelsamtal i Klippan
UID:7746@lawebb.se
END:VEVENT
END:VCALENDAR