BEGIN:VCALENDAR
VERSION:2.0
BEGIN:VEVENT
DTSTART;TZID=Europe/Stockholm:20260409T203000
DTEND;TZID=Europe/Stockholm:20260409T213000
DTSTAMP:20260420T184120
DESCRIPTION:
SEQUENCE:0
SUMMARY:Bön i Klippan och hemma
UID:2762@lawebb.se
END:VEVENT
END:VCALENDAR