BEGIN:VCALENDAR
VERSION:2.0
BEGIN:VEVENT
DTSTART;TZID=Europe/Stockholm:20260406T110000
DTEND;TZID=Europe/Stockholm:20260406T120000
DTSTAMP:20260420T183653
DESCRIPTION:Scouter och ledare ordnar ÄGGLUNKEN med tipspromenad från Klippan och där är det också servering och lottförsäljning.
SEQUENCE:0
SUMMARY:Annandag Påsk - Ägglunken vid Klippan
UID:9375@lawebb.se
END:VEVENT
END:VCALENDAR