BEGIN:VCALENDAR
VERSION:2.0
BEGIN:VEVENT
DTSTART;TZID=Europe/Stockholm:20260405T180000
DTEND;TZID=Europe/Stockholm:20260405T190000
DTSTAMP:20260420T184254
DESCRIPTION:Efter gudstjänsten med Sara Flodquist, No Silence och Ingela Johansson fortsätter gemenskapen.
SEQUENCE:0
SUMMARY:Påskdagsmässa i Ölme kyrka
UID:4986@lawebb.se
END:VEVENT
END:VCALENDAR