BEGIN:VCALENDAR
VERSION:2.0
BEGIN:VEVENT
DTSTART;TZID=Europe/Stockholm:20260403T110000
DTEND;TZID=Europe/Stockholm:20260403T120000
DTSTAMP:20260420T183958
DESCRIPTION:Ekumenisk gudstjänst i Ölme kyrka med Terezia Remoncová och Björn Eckerrot.
SEQUENCE:0
SUMMARY:Långfredag
UID:5442@lawebb.se
END:VEVENT
END:VCALENDAR