BEGIN:VCALENDAR
VERSION:2.0
BEGIN:VEVENT
DTSTART;TZID=Europe/Stockholm:20260402T190000
DTEND;TZID=Europe/Stockholm:20260402T200000
DTSTAMP:20260420T183943
DESCRIPTION:Ekumenisk Agapemåltid i Klippan med Arvid Lundtoft, Ingela Johansson m fl
SEQUENCE:0
SUMMARY:Skärtorsdag
UID:5838@lawebb.se
END:VEVENT
END:VCALENDAR