BEGIN:VCALENDAR
VERSION:2.0
BEGIN:VEVENT
DTSTART;TZID=Europe/Stockholm:20260402T183000
DTEND;TZID=Europe/Stockholm:20260402T193000
DTSTAMP:20260420T183633
DESCRIPTION:Vi startar med fika och börjar de livsnära samtalen vid 19-tiden.
SEQUENCE:0
SUMMARY:Livsnära samtal och bön
UID:8688@lawebb.se
END:VEVENT
END:VCALENDAR