BEGIN:VCALENDAR
VERSION:2.0
BEGIN:VEVENT
DTSTART;TZID=Europe/Stockholm:20260331T140000
DTEND;TZID=Europe/Stockholm:20260331T150000
DTSTAMP:20260420T202356
DESCRIPTION:Ingemar Mattson sjunger för de boende.
SEQUENCE:0
SUMMARY:Sångstund på Ölmegården
UID:9556@lawebb.se
END:VEVENT
END:VCALENDAR