BEGIN:VCALENDAR
VERSION:2.0
BEGIN:VEVENT
DTSTART;TZID=Europe/Stockholm:20260324T140000
DTEND;TZID=Europe/Stockholm:20260324T150000
DTSTAMP:20260420T202219
DESCRIPTION:Öppet under 2 timmar för gemenskap och våfflor. Kom en stund eller var med hela tiden.
SEQUENCE:0
SUMMARY:Café Klippan kl 14-16
UID:3325@lawebb.se
END:VEVENT
END:VCALENDAR