BEGIN:VCALENDAR
VERSION:2.0
BEGIN:VEVENT
DTSTART;TZID=Europe/Stockholm:20260322T110000
DTEND;TZID=Europe/Stockholm:20260322T120000
DTSTAMP:20260420T201858
DESCRIPTION:Predikan Ulf Eriksson och dessutom medverkar Sara Flodqusit och No Silence.
SEQUENCE:0
SUMMARY:Ekumenisk gtj i Ölme församlingshem
UID:6785@lawebb.se
END:VEVENT
END:VCALENDAR