BEGIN:VCALENDAR
VERSION:2.0
BEGIN:VEVENT
DTSTART;TZID=Europe/Stockholm:20260321T090000
DTEND;TZID=Europe/Stockholm:20260321T100000
DTSTAMP:20260420T202003
DESCRIPTION:Samåkning till &#34;svansjön&#34; Tysslingen, vid Kilsbergens fot nordost om Vintrosa. Egen fikakorg, kikare och kamera.
Anmälan till 070-748 11 69 eller klippan@nancyedlund.se.
Åk med eller erbjud plats i din bil.
SEQUENCE:0
SUMMARY:Utflykt till Tysslingen
UID:4253@lawebb.se
END:VEVENT
END:VCALENDAR