BEGIN:VCALENDAR
VERSION:2.0
BEGIN:VEVENT
DTSTART;TZID=Europe/Stockholm:20260319T183000
DTEND;TZID=Europe/Stockholm:20260319T193000
DTSTAMP:20260420T201701
DESCRIPTION:Vi startar med fika och börjar sedan lyssna till Gösta Johansson, Ölmhult, när han berättar om en resa till och i Kristinebergs gruvan. Där framkom vid en sprängning 1946 en skimrande kristusbild som det hade profeterats om redan på 1860-talet.
   Det blir också bilder och berättande om Helena Hedqvist.
SEQUENCE:0
SUMMARY:Kristusbilden i Kristinebergsgruvan i Malå
UID:5348@lawebb.se
END:VEVENT
END:VCALENDAR