BEGIN:VCALENDAR
VERSION:2.0
BEGIN:VEVENT
DTSTART;TZID=Europe/Stockholm:20260312T203000
DTEND;TZID=Europe/Stockholm:20260312T213000
DTSTAMP:20260420T202454
DESCRIPTION:
SEQUENCE:0
SUMMARY:Bön i Klippan och hemma
UID:5426@lawebb.se
END:VEVENT
END:VCALENDAR