BEGIN:VCALENDAR
VERSION:2.0
BEGIN:VEVENT
DTSTART;TZID=Europe/Stockholm:20260311T180000
DTEND;TZID=Europe/Stockholm:20260311T190000
DTSTAMP:20260420T201707
DESCRIPTION:Börjar med mat och sedan den aktivitet man valt innan avslutande andakt 19.45.
SEQUENCE:0
SUMMARY:Salig Blandning hos Eqk Väse
UID:8784@lawebb.se
END:VEVENT
END:VCALENDAR