BEGIN:VCALENDAR
VERSION:2.0
BEGIN:VEVENT
DTSTART;TZID=Europe/Stockholm:20260308T110000
DTEND;TZID=Europe/Stockholm:20260308T120000
DTSTAMP:20260420T201610
DESCRIPTION:Välkommen till gudstjänst tillsammans med Joakim Götborg.
SEQUENCE:0
SUMMARY:Gudstjänst i Klippan
UID:4938@lawebb.se
END:VEVENT
END:VCALENDAR