BEGIN:VCALENDAR
VERSION:2.0
BEGIN:VEVENT
DTSTART;TZID=Europe/Stockholm:20260305T203000
DTEND;TZID=Europe/Stockholm:20260305T213000
DTSTAMP:20260420T202429
DESCRIPTION:
SEQUENCE:0
SUMMARY:Bön i Klippan och hemma
UID:3274@lawebb.se
END:VEVENT
END:VCALENDAR