BEGIN:VCALENDAR
VERSION:2.0
BEGIN:VEVENT
DTSTART;TZID=Europe/Stockholm:20260303T140000
DTEND;TZID=Europe/Stockholm:20260303T150000
DTSTAMP:20260420T202543
DESCRIPTION:
SEQUENCE:0
SUMMARY:Sångstund på Ölmegården
UID:5624@lawebb.se
END:VEVENT
END:VCALENDAR