BEGIN:VCALENDAR
VERSION:2.0
BEGIN:VEVENT
DTSTART;TZID=Europe/Stockholm:20260226T183000
DTEND;TZID=Europe/Stockholm:20260226T193000
DTSTAMP:20260420T220411
DESCRIPTION:Denna torsdag blir det Livsnära samtal i st f nästa vecka då det blir Bibelsamtal.
SEQUENCE:0
SUMMARY:Bibelsamtal i Klippan blir det nästa vecka
UID:5224@lawebb.se
END:VEVENT
END:VCALENDAR