BEGIN:VCALENDAR
VERSION:2.0
BEGIN:VEVENT
DTSTART;TZID=Europe/Stockholm:20260222T110000
DTEND;TZID=Europe/Stockholm:20260222T120000
DTSTAMP:20260420T220603
DESCRIPTION:Efter att våra församlingar haft sina årsmöten har vi på söndag en gemensam årshögtid i Väse med Jockim Götborg.
SEQUENCE:0
SUMMARY:Gemensam årshögtid i Eqk Väse
UID:4593@lawebb.se
END:VEVENT
END:VCALENDAR