BEGIN:VCALENDAR
VERSION:2.0
BEGIN:VEVENT
DTSTART;TZID=Europe/Stockholm:20260219T183000
DTEND;TZID=Europe/Stockholm:20260219T193000
DTSTAMP:20260420T220418
DESCRIPTION:Vi startar med fika och börjar de livsnära samtalen om bön vid 19-tiden.
SEQUENCE:0
SUMMARY:Livsnära samtal och bön
UID:6272@lawebb.se
END:VEVENT
END:VCALENDAR