BEGIN:VCALENDAR
VERSION:2.0
BEGIN:VEVENT
DTSTART;TZID=Europe/Stockholm:20260215T110000
DTEND;TZID=Europe/Stockholm:20260215T120000
DTSTAMP:20260420T220827
DESCRIPTION:Predikar gör Ulf Eriksson.
SEQUENCE:0
SUMMARY:Gudstjänst avslutar bönedygnet
UID:6349@lawebb.se
END:VEVENT
END:VCALENDAR