BEGIN:VCALENDAR
VERSION:2.0
BEGIN:VEVENT
DTSTART;TZID=Europe/Stockholm:20260211T183000
DTEND;TZID=Europe/Stockholm:20260211T193000
DTSTAMP:20260420T221053
DESCRIPTION:Östra Värmland och Väse är välkomna till Klippan.
SEQUENCE:0
SUMMARY:Region Svealand Närområdetsträff
UID:5644@lawebb.se
END:VEVENT
END:VCALENDAR