BEGIN:VCALENDAR
VERSION:2.0
BEGIN:VEVENT
DTSTART;TZID=Europe/Stockholm:20260208T110000
DTEND;TZID=Europe/Stockholm:20260208T120000
DTSTAMP:20260420T220558
DESCRIPTION:Joakim Götborg m.fl.
SEQUENCE:0
SUMMARY:Gudstjänst i Eqk Väse
UID:7767@lawebb.se
END:VEVENT
END:VCALENDAR