BEGIN:VCALENDAR
VERSION:2.0
BEGIN:VEVENT
DTSTART;TZID=Europe/Stockholm:20260129T150000
DTEND;TZID=Europe/Stockholm:20260129T160000
DTSTAMP:20260420T235202
DESCRIPTION:
SEQUENCE:0
SUMMARY:Stickcafé hos Equmeniakyrkan i Väse
UID:8922@lawebb.se
END:VEVENT
END:VCALENDAR