BEGIN:VCALENDAR
VERSION:2.0
BEGIN:VEVENT
DTSTART;TZID=Europe/Stockholm:20260129T203000
DTEND;TZID=Europe/Stockholm:20260129T213000
DTSTAMP:20260420T235048
DESCRIPTION:
SEQUENCE:0
SUMMARY:Bön i Klippan och hemma
UID:9669@lawebb.se
END:VEVENT
END:VCALENDAR