BEGIN:VCALENDAR
VERSION:2.0
BEGIN:VEVENT
DTSTART;TZID=Europe/Stockholm:20260122T203000
DTEND;TZID=Europe/Stockholm:20260122T213000
DTSTAMP:20260420T235248
DESCRIPTION:
SEQUENCE:0
SUMMARY:Bön i Klippan och hemma
UID:7433@lawebb.se
END:VEVENT
END:VCALENDAR