BEGIN:VCALENDAR
VERSION:2.0
BEGIN:VEVENT
DTSTART;TZID=Europe/Stockholm:20260118T000000
DTEND;TZID=Europe/Stockholm:20260118T240000
DTSTAMP:20260420T235336
DESCRIPTION:
SEQUENCE:0
SUMMARY:11,00  Krhmn k:a, Gtj m Frida Mannerfelt
UID:5458@lawebb.se
END:VEVENT
END:VCALENDAR