BEGIN:VCALENDAR
VERSION:2.0
BEGIN:VEVENT
DTSTART;TZID=Europe/Stockholm:20260117T000000
DTEND;TZID=Europe/Stockholm:20260117T240000
DTSTAMP:20260420T235318
DESCRIPTION:
SEQUENCE:0
SUMMARY:19.00  Pingstkyrkan. Kvällsmöte Frida Mannerfelt
UID:9845@lawebb.se
END:VEVENT
END:VCALENDAR