BEGIN:VCALENDAR
VERSION:2.0
BEGIN:VEVENT
DTSTART;TZID=Europe/Stockholm:20260117T000000
DTEND;TZID=Europe/Stockholm:20260117T240000
DTSTAMP:20260420T235130
DESCRIPTION:
SEQUENCE:0
SUMMARY:16.00  Pingstkyrkan. Bibelst., Frida Mannerfelt
UID:6939@lawebb.se
END:VEVENT
END:VCALENDAR