BEGIN:VCALENDAR
VERSION:2.0
BEGIN:VEVENT
DTSTART;TZID=Europe/Stockholm:20260116T000000
DTEND;TZID=Europe/Stockholm:20260116T240000
DTSTAMP:20260420T235509
DESCRIPTION:
SEQUENCE:0
SUMMARY:19.00  Broängskyrkan. Ungdomsgtj Lotta Stenzelius
UID:4256@lawebb.se
END:VEVENT
END:VCALENDAR