BEGIN:VCALENDAR
VERSION:2.0
BEGIN:VEVENT
DTSTART;TZID=Europe/Stockholm:20260115T000000
DTEND;TZID=Europe/Stockholm:20260115T240000
DTSTAMP:20260420T235502
DESCRIPTION:
SEQUENCE:0
SUMMARY:19.00  Frälsningsarmén. Gtj med Arvid Lundtoft
UID:3538@lawebb.se
END:VEVENT
END:VCALENDAR