BEGIN:VCALENDAR
VERSION:2.0
BEGIN:VEVENT
DTSTART;TZID=Europe/Stockholm:20260114T000000
DTEND;TZID=Europe/Stockholm:20260114T240000
DTSTAMP:20260420T234829
DESCRIPTION:
SEQUENCE:0
SUMMARY:19.00  Krhmn kyrka, Mässa. Mattias Lundqvist
UID:3642@lawebb.se
END:VEVENT
END:VCALENDAR