BEGIN:VCALENDAR
VERSION:2.0
BEGIN:VEVENT
DTSTART;TZID=Europe/Stockholm:20260113T000000
DTEND;TZID=Europe/Stockholm:20260113T240000
DTSTAMP:20260420T235424
DESCRIPTION:
SEQUENCE:0
SUMMARY:19.00  Vike Missionshus.Gtj m Josef Häggblad.
UID:6969@lawebb.se
END:VEVENT
END:VCALENDAR