BEGIN:VCALENDAR
VERSION:2.0
BEGIN:VEVENT
DTSTART;TZID=Europe/Stockholm:20260112T000000
DTEND;TZID=Europe/Stockholm:20260112T240000
DTSTAMP:20260420T235124
DESCRIPTION:19.00  Betlehemskyirkan. Ekum. bön med Ingela Öhman.
SEQUENCE:0
SUMMARY:Ekumeniska böneveckan 12-18 januari
UID:4738@lawebb.se
END:VEVENT
END:VCALENDAR