BEGIN:VCALENDAR
VERSION:2.0
BEGIN:VEVENT
DTSTART;TZID=Europe/Stockholm:20260106T150000
DTEND;TZID=Europe/Stockholm:20260106T160000
DTSTAMP:20260420T234730
DESCRIPTION:Efter eftermiddagsgudstjänsten på trettondagen blir det julgransplundring i församlingshemmet.
SEQUENCE:0
SUMMARY:Gudstjänst i Ölme kyrka
UID:2684@lawebb.se
END:VEVENT
END:VCALENDAR