BEGIN:VCALENDAR
VERSION:2.0
BEGIN:VEVENT
DTSTART;TZID=Europe/Stockholm:20260105T180000
DTEND;TZID=Europe/Stockholm:20260105T190000
DTSTAMP:20260420T234757
DESCRIPTION:En trivselafton runt borden i Klippan, med någon klurighet samt risgrynsgröt och skinksmörgås m.m.
SEQUENCE:0
SUMMARY:Trettondagsafton i Klippan
UID:6849@lawebb.se
END:VEVENT
END:VCALENDAR