BEGIN:VCALENDAR
VERSION:2.0
BEGIN:VEVENT
DTSTART;TZID=Europe/Stockholm:20260104T180000
DTEND;TZID=Europe/Stockholm:20260104T190000
DTSTAMP:20260420T234909
DESCRIPTION:Gemenskap vid borden med smak av både jul och mission i andra länder. Skinkmacka, knytis på godis, frukt ...
Insamling till missionen.
SEQUENCE:0
SUMMARY:Jul- och missionsfest hos Eqk Väse
UID:8553@lawebb.se
END:VEVENT
END:VCALENDAR