BEGIN:VCALENDAR
VERSION:2.0
BEGIN:VEVENT
DTSTART;TZID=Europe/Stockholm:20251231T180000
DTEND;TZID=Europe/Stockholm:20251231T190000
DTSTAMP:20260421T014102
DESCRIPTION:Veniat Björn Larsson, musiker Ingela Johansson och Kristina Tjärnbro-Lämås från Equmeniakyrkan.
SEQUENCE:0
SUMMARY:Ekumenisk nyårsbön i Ölme kyrka
UID:9654@lawebb.se
END:VEVENT
END:VCALENDAR