BEGIN:VCALENDAR
VERSION:2.0
BEGIN:VEVENT
DTSTART;TZID=Europe/Stockholm:20251228T110000
DTEND;TZID=Europe/Stockholm:20251228T120000
DTSTAMP:20260421T014103
DESCRIPTION:Denna söndag är internationella missionen ämnet och Annbritt Nilsson från Eqk berättar bland annat om sjukvården i Kongo och om att vara vänförsamling. Insamling till internationella arbetet. Du får gärna ta med något till brödfaten.
SEQUENCE:0
SUMMARY:Gudsjänst i Klippan
UID:7985@lawebb.se
END:VEVENT
END:VCALENDAR