BEGIN:VCALENDAR
VERSION:2.0
BEGIN:VEVENT
DTSTART;TZID=Europe/Stockholm:20251224T100000
DTEND;TZID=Europe/Stockholm:20251224T110000
DTSTAMP:20260421T014417
DESCRIPTION:Joakim Götborg m.fl.
SEQUENCE:0
SUMMARY:Julbön i Equmeniakyrkan Väse
UID:4652@lawebb.se
END:VEVENT
END:VCALENDAR